BEGIN:VCALENDAR
PRODID:-//eluceo/ical//2.0/EN
VERSION:2.0
CALSCALE:GREGORIAN
BEGIN:VEVENT
UID:1d42cade0a8479231f1b6e2a42185f74
DTSTAMP:20260422T043609Z
SUMMARY:Clark Hillel Advisory Committee
DESCRIPTION:Jewish Federation of Central Massachusetts\nCalendar\nhttps://j
 ewishcentralmass.org/calendar/clark-hillel-advisory-committee\n\nClark Hil
 lel Advisory Committee
DTSTART;TZID=America/New_York:20190313T190000
DTEND;TZID=America/New_York:20190313T210000
END:VEVENT
END:VCALENDAR
