BEGIN:VCALENDAR
PRODID:-//eluceo/ical//2.0/EN
VERSION:2.0
CALSCALE:GREGORIAN
BEGIN:VEVENT
UID:f0591a99713a5d935f74dbbdbda0380f
DTSTAMP:20260423T024718Z
SUMMARY:Chocolate Tasting for Pre-Passover
DESCRIPTION:Jewish Federation of Central Massachusetts\nCalendar\nhttps://j
 ewishcentralmass.org/calendar/chocolate-tasting-for-pre-passover\n\nWild C
 hild Chocolate Tasting\nMarch 16th 2pm\n@Congregation Agudat Achim
DTSTART;TZID=America/New_York:20250316T140000
DTEND;TZID=America/New_York:20250316T160000
END:VEVENT
END:VCALENDAR
