BEGIN:VCALENDAR
PRODID:-//eluceo/ical//2.0/EN
VERSION:2.0
CALSCALE:GREGORIAN
BEGIN:VEVENT
UID:f457982b4124cf83f847440677837d5c
DTSTAMP:20260423T073725Z
SUMMARY:CHAVERIM’S HOLIDAY JEWBILATION!
DESCRIPTION:Jewish Federation of Central Massachusetts\nCalendar\nhttps://j
 ewishcentralmass.org/calendar/chaverims-holiday-jewbilation\n\nJoin us for
  a post-Hanukkah champagne toast and some holiday cheer to celebrate our c
 ommunity and upcoming new year!\nBring your favorite appetizer\, dessert o
 r wine to share\n(dairy/vegetarian only please)\nWhen: Saturday\, December
  15th at 7:00 pm\nRSVP: By December 10th to Mindy Hall at mhall@jfcm.org
DTSTART;TZID=America/New_York:20181215T190000
DTEND;TZID=America/New_York:20181215T210000
END:VEVENT
END:VCALENDAR
