BEGIN:VCALENDAR
PRODID:-//eluceo/ical//2.0/EN
VERSION:2.0
CALSCALE:GREGORIAN
BEGIN:VEVENT
UID:379a0853f7d1085cff7125796f50172f
DTSTAMP:20260421T063242Z
SUMMARY:Chaverim/Hadassah Night Out at the Jewish Film Festival: iMordecai
DESCRIPTION:Jewish Federation of Central Massachusetts\nCalendar\nhttps://j
 ewishcentralmass.org/calendar/chaverimhadassah-night-out-at-the-jewish-fil
 m-festival-imordecai\n\nChaverim/Hadassah Night Out at the Jewish Film Fes
 tival \n\n \n\niMordecai\n\n\nSaturday\, January 7th\, 2023 @ 7:30 pm\n\
 nSt. John’s High School 378 Main St.\, Shrewsbury Robert R. Jay Performi
 ng Arts Center\, Founders Hall\n\n\n \n\n2023 Central Mass Jewish Film Fe
 stival - Worcester JCC\n\n\n 
DTSTART;TZID=America/New_York:20230107T193000
DTEND;TZID=America/New_York:20230107T220000
END:VEVENT
END:VCALENDAR
