BEGIN:VCALENDAR
PRODID:-//eluceo/ical//2.0/EN
VERSION:2.0
CALSCALE:GREGORIAN
BEGIN:VEVENT
UID:792a640a58a17a76b71b99b84d3d2ecf
DTSTAMP:20260420T192132Z
SUMMARY:Chaverim/Hadassah at the Jewish Film Festival
DESCRIPTION:Jewish Federation of Central Massachusetts\nCalendar\nhttps://j
 ewishcentralmass.org/calendar/chaverimhadassah-atthe-jewish-film-festival\
 n\nChaverim/Hadassah at the Jewish Film Festival
DTSTART;TZID=America/New_York:20200125T193000
DTEND;TZID=America/New_York:20200125T220000
END:VEVENT
END:VCALENDAR
