BEGIN:VCALENDAR
PRODID:-//eluceo/ical//2.0/EN
VERSION:2.0
CALSCALE:GREGORIAN
BEGIN:VEVENT
UID:663e5d52f357546ebb6b8e70ff7d8f8f
DTSTAMP:20260425T201536Z
SUMMARY:Chaverim Sweet New Year Reception
DESCRIPTION:Jewish Federation of Central Massachusetts\nCalendar\nhttps://j
 ewishcentralmass.org/calendar/chaverim-sweet-new-year-reception\n\nChaveri
 m Sweet New Year Reception at 7:00 pm\n\nRSVP to Mindy Hall for address.
DTSTART;TZID=America/New_York:20221001T190000
DTEND;TZID=America/New_York:20221001T210000
END:VEVENT
END:VCALENDAR
