BEGIN:VCALENDAR
PRODID:-//eluceo/ical//2.0/EN
VERSION:2.0
CALSCALE:GREGORIAN
BEGIN:VEVENT
UID:ca89a1709cdaa4c677e63c8d5e6354b7
DTSTAMP:20260423T131156Z
SUMMARY:Chaverim Pool Party
DESCRIPTION:Jewish Federation of Central Massachusetts\nCalendar\nhttps://j
 ewishcentralmass.org/calendar/chaverim-pool-party\n\nChaverim Pool Party\n
 \nSunday\, July 28\, 1:30-4:30 \n\nRSVP to mhall@jfcm.org for details 
DTSTART;TZID=America/New_York:20240728T133000
DTEND;TZID=America/New_York:20240728T163000
END:VEVENT
END:VCALENDAR
