BEGIN:VCALENDAR
PRODID:-//eluceo/ical//2.0/EN
VERSION:2.0
CALSCALE:GREGORIAN
BEGIN:VEVENT
UID:aae9ff8b373339530730d1a1b8b73e21
DTSTAMP:20260422T043401Z
SUMMARY:Chaverim New Year (rain date)
DESCRIPTION:Jewish Federation of Central Massachusetts\nCalendar\nhttps://j
 ewishcentralmass.org/calendar/chaverim-new-year-rain-date\n\nChaverim New 
 Year - Rain date\n\n7:30 pm
DTSTART;TZID=America/New_York:20240921T193000
DTEND;TZID=America/New_York:20240921T213000
END:VEVENT
END:VCALENDAR
