BEGIN:VCALENDAR
PRODID:-//eluceo/ical//2.0/EN
VERSION:2.0
CALSCALE:GREGORIAN
BEGIN:VEVENT
UID:1db449957a4cd5934b00f436ca5ede80
DTSTAMP:20260422T230429Z
SUMMARY:Chaverim Happy Hour at Broken Creek Vineyard
DESCRIPTION:Jewish Federation of Central Massachusetts\nCalendar\nhttps://j
 ewishcentralmass.org/calendar/chaverim-happy-hour-at-broken-creek-vineyard
 \n\nChaverim Happy Hour at Broken Creek Vineyard\n\n6:45 - 8:45 pm
DTSTART;TZID=America/New_York:20230713T184500
DTEND;TZID=America/New_York:20230713T204500
END:VEVENT
END:VCALENDAR
