BEGIN:VCALENDAR
PRODID:-//eluceo/ical//2.0/EN
VERSION:2.0
CALSCALE:GREGORIAN
BEGIN:VEVENT
UID:d234bd3d6318e73da2824e7d6abb6d2e
DTSTAMP:20260422T141119Z
SUMMARY:Chaverim Hanukkah Event
DESCRIPTION:Jewish Federation of Central Massachusetts\nCalendar\nhttps://j
 ewishcentralmass.org/calendar/chaverim-hanukkah-event\n\nChaverim Event on
  Saturday evening\, Dec 10 @730 pm.  Details forthcoming
DTSTART;TZID=America/New_York:20221210T193000
DTEND;TZID=America/New_York:20221210T220000
END:VEVENT
END:VCALENDAR
