BEGIN:VCALENDAR
PRODID:-//eluceo/ical//2.0/EN
VERSION:2.0
CALSCALE:GREGORIAN
BEGIN:VEVENT
UID:c0896cb1d64f2794dbd4526fc4f1a03f
DTSTAMP:20260421T143151Z
SUMMARY:Chaverim - Fall Hike\, Jog\, or Bike (then Gelato)
DESCRIPTION:Jewish Federation of Central Massachusetts\nCalendar\nhttps://j
 ewishcentralmass.org/calendar/chaverim-fall-hike-jog-or-bike-then-gelato\n
 \nFall Hike\, Jog\, or Bike (then Gelato)\, Sunday\, October 24th\, 2:00 p
 m\, West Boylston Rail Trail\n\n 
DTSTART;TZID=America/New_York:20211024T140000
DTEND;TZID=America/New_York:20211024T160000
END:VEVENT
END:VCALENDAR
