BEGIN:VCALENDAR
PRODID:-//eluceo/ical//2.0/EN
VERSION:2.0
CALSCALE:GREGORIAN
BEGIN:VEVENT
UID:48be651ec2dd9a20f7ae16ee3c0c554a
DTSTAMP:20260421T153815Z
SUMMARY:Chaverim Event - March 5\, 2022
DESCRIPTION:Jewish Federation of Central Massachusetts\nCalendar\nhttps://j
 ewishcentralmass.org/calendar/chaverim-event-march-5-2022\n\nChaverim Even
 t\n\nMarch 5\, 7:30 pm
DTSTART;TZID=America/New_York:20220305T193000
DTEND;TZID=America/New_York:20220305T213000
END:VEVENT
END:VCALENDAR
