BEGIN:VCALENDAR
PRODID:-//eluceo/ical//2.0/EN
VERSION:2.0
CALSCALE:GREGORIAN
BEGIN:VEVENT
UID:3f6ba2ff666ae2737b245bd73e3907fc
DTSTAMP:20260424T101834Z
SUMMARY:Chaverim/YAD Comedy Night1
DESCRIPTION:Jewish Federation of Central Massachusetts\nCalendar\nhttps://j
 ewishcentralmass.org/calendar/chaverim-comedy-night1\n\nSaturday - Septemb
 er 14th\, 2019 at 7:30 pm Chaverim & YAD Comedy Night
DTSTART;TZID=America/New_York:20190914T193000
DTEND;TZID=America/New_York:20190914T213000
END:VEVENT
END:VCALENDAR
