BEGIN:VCALENDAR
PRODID:-//eluceo/ical//2.0/EN
VERSION:2.0
CALSCALE:GREGORIAN
BEGIN:VEVENT
UID:6c0a40cd1812c863f15a11834fc76431
DTSTAMP:20260422T160750Z
SUMMARY:Chaverim Comedy Night - March 16
DESCRIPTION:Jewish Federation of Central Massachusetts\nCalendar\nhttps://j
 ewishcentralmass.org/calendar/chaverim-comedy-night-march16\n\nChaverim Co
 medy Night\, 7:30 pm
DTSTART;TZID=America/New_York:20240316T193000
DTEND;TZID=America/New_York:20240316T213000
END:VEVENT
END:VCALENDAR
