BEGIN:VCALENDAR
PRODID:-//eluceo/ical//2.0/EN
VERSION:2.0
CALSCALE:GREGORIAN
BEGIN:VEVENT
UID:4db75f0e74a6d97e4837b51c87ee8c4a
DTSTAMP:20260424T221445Z
SUMMARY:Chaverim Comedy Night - March 30
DESCRIPTION:Jewish Federation of Central Massachusetts\nCalendar\nhttps://j
 ewishcentralmass.org/calendar/chaverim-comedy-night-march-30\n\nChaverim C
 omedy Night\, 7:30 pm
DTSTART;TZID=America/New_York:20240330T193000
DTEND;TZID=America/New_York:20240330T213000
END:VEVENT
END:VCALENDAR
