BEGIN:VCALENDAR
PRODID:-//eluceo/ical//2.0/EN
VERSION:2.0
CALSCALE:GREGORIAN
BEGIN:VEVENT
UID:3e0bff3ce677a4d4f4cfb92a1583ce1a
DTSTAMP:20260424T130315Z
SUMMARY:Chaverim - Café Chaverot
DESCRIPTION:Jewish Federation of Central Massachusetts\nCalendar\nhttps://j
 ewishcentralmass.org/calendar/chaverim-caf-chaverot\n\nCafé Chaverot\, No
 vember 5th\, 12:00 pm\, LaLa Java\, Northborough (outdoor seating)
DTSTART;TZID=America/New_York:20211105T120000
DTEND;TZID=America/New_York:20211105T140000
END:VEVENT
END:VCALENDAR
