BEGIN:VCALENDAR
PRODID:-//eluceo/ical//2.0/EN
VERSION:2.0
CALSCALE:GREGORIAN
BEGIN:VEVENT
UID:8bb59b6b19230794ecea0dac43f93200
DTSTAMP:20260424T202021Z
SUMMARY:Chaverim Bowling Night
DESCRIPTION:Jewish Federation of Central Massachusetts\nCalendar\nhttps://j
 ewishcentralmass.org/calendar/chaverim-bowling-night\n\nMarch 25th Chaveri
 m Bowling Night at AMF Shrewsbury (7:30 pm)
DTSTART;TZID=America/New_York:20170325T193000
DTEND;TZID=America/New_York:20170325T220000
END:VEVENT
END:VCALENDAR
