BEGIN:VCALENDAR
PRODID:-//eluceo/ical//2.0/EN
VERSION:2.0
CALSCALE:GREGORIAN
BEGIN:VEVENT
UID:e849d40c9e3e1faba508b4d2692a67bf
DTSTAMP:20260422T062129Z
SUMMARY:Chaverim at Redemption Rock
DESCRIPTION:Jewish Federation of Central Massachusetts\nCalendar\nhttps://j
 ewishcentralmass.org/calendar/chaverim-at-redemption-rock\n\nSaturday\, De
 cember 7th at 7:00 pm\n\nChaverim at Redemption Rock Brewing Company
DTSTART;TZID=America/New_York:20191207T190000
DTEND;TZID=America/New_York:20191207T210000
END:VEVENT
END:VCALENDAR
