BEGIN:VCALENDAR
PRODID:-//eluceo/ical//2.0/EN
VERSION:2.0
CALSCALE:GREGORIAN
BEGIN:VEVENT
UID:e974f52de7c3f19a86980fd89f9310a7
DTSTAMP:20260421T062536Z
SUMMARY:Chaverim and Hadassah Night Out at the Jewish Film Festival 2024
DESCRIPTION:Jewish Federation of Central Massachusetts\nCalendar\nhttps://j
 ewishcentralmass.org/calendar/chaverim-and-hadassah-night-out-at-the-jewis
 h-film-festival-2024\n\nChaverim and Hadassah Night Out at the Jewish Film
  Festival on Saturday\, February 10\, 7 pm
DTSTART;TZID=America/New_York:20240210T190000
DTEND;TZID=America/New_York:20240210T210000
END:VEVENT
END:VCALENDAR
