BEGIN:VCALENDAR
PRODID:-//eluceo/ical//2.0/EN
VERSION:2.0
CALSCALE:GREGORIAN
BEGIN:VEVENT
UID:089df274513f86c7831b131680b083b5
DTSTAMP:20260422T194233Z
SUMMARY:CHANUKAH
DESCRIPTION:Jewish Federation of Central Massachusetts\nCalendar\nhttps://j
 ewishcentralmass.org/calendar/chanukah\n\nCHANUKAH
DTSTART;TZID=America/New_York:20131128T000000
DTEND;TZID=America/New_York:20131205T235900
END:VEVENT
END:VCALENDAR
