BEGIN:VCALENDAR
PRODID:-//eluceo/ical//2.0/EN
VERSION:2.0
CALSCALE:GREGORIAN
BEGIN:VEVENT
UID:b87c6491ea055c80596f0f62ce3101c8
DTSTAMP:20260424T071834Z
SUMMARY:Challah Making Workshop
DESCRIPTION:Jewish Federation of Central Massachusetts\nCalendar\nhttps://j
 ewishcentralmass.org/calendar/challah-making-workshop\n\nAll are welcome t
 o this hands-on workshop led by Marcia Hoffman\, Ava Hoffman\, and Karen 
 Rothman. Suitable for all ages (under 13s must be accompanied by an adult)
 . RSVP here:https://www.cbnaishalom.org/event/challah.html
DTSTART;TZID=America/New_York:20240211T120000
DTEND;TZID=America/New_York:20240211T140000
END:VEVENT
END:VCALENDAR
