BEGIN:VCALENDAR
PRODID:-//eluceo/ical//2.0/EN
VERSION:2.0
CALSCALE:GREGORIAN
BEGIN:VEVENT
UID:3e333465f25b602126a106a8cec63e46
DTSTAMP:20260421T035426Z
SUMMARY:Challah Making at the Torah Center
DESCRIPTION:Jewish Federation of Central Massachusetts\nCalendar\nhttps://j
 ewishcentralmass.org/calendar/challah-making-at-the-torah-center\n\nWed Ma
 rch 6\n\nGetting Ready for Shabbat Across Central Mass Challah Making.  \
 n\n7:00 pm\n\nThe Torah Center\n\n 
DTSTART;TZID=America/New_York:20240306T000000
DTEND;TZID=America/New_York:20240306T235959
END:VEVENT
END:VCALENDAR
