BEGIN:VCALENDAR
PRODID:-//eluceo/ical//2.0/EN
VERSION:2.0
CALSCALE:GREGORIAN
BEGIN:VEVENT
UID:5694cca015e6e094631d9fcb24d2f080
DTSTAMP:20260422T223647Z
SUMMARY:Central Mass Yom HaShoah Commemoration 2024
DESCRIPTION:Jewish Federation of Central Massachusetts\nCalendar\nhttps://j
 ewishcentralmass.org/calendar/central-mass-yom-hashoah-commemoration-2024\
 n\nCentral Mass Yom HaShoah Commemoration \n\nMay 5th at 4pm\n\nCongregati
 on Agudat Achim \n\n268 Washington Street\, Leominster MA 
DTSTART;TZID=America/New_York:20240505T160000
DTEND;TZID=America/New_York:20240505T180000
END:VEVENT
END:VCALENDAR
