BEGIN:VCALENDAR
PRODID:-//eluceo/ical//2.0/EN
VERSION:2.0
CALSCALE:GREGORIAN
BEGIN:VEVENT
UID:040409a5a997277b20fa80c38872d2ac
DTSTAMP:20260421T034639Z
SUMMARY:Central Mass Torah Center presents Purim Live
DESCRIPTION:Jewish Federation of Central Massachusetts\nCalendar\nhttps://j
 ewishcentralmass.org/calendar/central-mass-torah-center-presents-purim-liv
 e\n\nCelebrate Purim Live presented by Central Mass Torah Center\n\nClick 
 here for the flyer with full details.\n\n 
DTSTART;TZID=America/New_York:20160324T180000
DTEND;TZID=America/New_York:20160324T200000
END:VEVENT
END:VCALENDAR
