BEGIN:VCALENDAR
PRODID:-//eluceo/ical//2.0/EN
VERSION:2.0
CALSCALE:GREGORIAN
BEGIN:VEVENT
UID:12676f20742c47787fee1d564c96e2a8
DTSTAMP:20260423T042753Z
SUMMARY:Central Mass Theater Event: My Son the Waiter
DESCRIPTION:Jewish Federation of Central Massachusetts\nCalendar\nhttps://j
 ewishcentralmass.org/calendar/central-mass-theater-event-my-son-the-waiter
 \n\nCentral Mass Theater Event: My Son the Waiter \n\nSaturday\, Dec 3rd\
 , 8:00 pm
DTSTART;TZID=America/New_York:20221203T200000
DTEND;TZID=America/New_York:20221203T230000
END:VEVENT
END:VCALENDAR
