BEGIN:VCALENDAR
PRODID:-//eluceo/ical//2.0/EN
VERSION:2.0
CALSCALE:GREGORIAN
BEGIN:VEVENT
UID:858de7e0f3fe6f61dd06e60247fd17f5
DTSTAMP:20260422T192752Z
SUMMARY:Central Mass Mega Challah Bake
DESCRIPTION:Jewish Federation of Central Massachusetts\nCalendar\nhttps://j
 ewishcentralmass.org/calendar/central-mass-mega-challah-bake\n\nCentral Ma
 ss Mega Challah Bake\n\nwww.centralmassmegachallahbake.com\n\n 
DTSTART;TZID=America/New_York:20160313T160000
DTEND;TZID=America/New_York:20160313T180000
END:VEVENT
END:VCALENDAR
