BEGIN:VCALENDAR
PRODID:-//eluceo/ical//2.0/EN
VERSION:2.0
CALSCALE:GREGORIAN
BEGIN:VEVENT
UID:a872cdaf2e17dc789ef8ebd680a93dc7
DTSTAMP:20260422T014540Z
SUMMARY:Central Mass Jewish Film Festival 2023: The Automat
DESCRIPTION:Jewish Federation of Central Massachusetts\nCalendar\nhttps://j
 ewishcentralmass.org/calendar/central-mass-jewish-film-festival-2023-the-a
 utomat\n\nCentral Mass Jewish Film Festival 2023\n\nThe Automat\, Sun. Mar
 ch 19 @ 2pm\; at the JCC\n\n2023 Central Mass Jewish Film Festival - Worce
 ster JCC
DTSTART;TZID=America/New_York:20230319T140000
DTEND;TZID=America/New_York:20230319T160000
END:VEVENT
END:VCALENDAR
