BEGIN:VCALENDAR
PRODID:-//eluceo/ical//2.0/EN
VERSION:2.0
CALSCALE:GREGORIAN
BEGIN:VEVENT
UID:04e356209804fbdd09a96672abad75c0
DTSTAMP:20260421T150530Z
SUMMARY:Central Mass Chabad Lag B'Omer Celebration
DESCRIPTION:Jewish Federation of Central Massachusetts\nCalendar\nhttps://j
 ewishcentralmass.org/calendar/central-mass-chabad-lag-bomer-celebration\n\
 nCentral Mass Chabad Lag B'Omer Celebration
DTSTART;TZID=America/New_York:20160526T180000
DTEND;TZID=America/New_York:20160526T210000
END:VEVENT
END:VCALENDAR
