BEGIN:VCALENDAR
PRODID:-//eluceo/ical//2.0/EN
VERSION:2.0
CALSCALE:GREGORIAN
BEGIN:VEVENT
UID:180106b53c618274f5572259d913fcf6
DTSTAMP:20260420T182620Z
SUMMARY:Central MA Jewish Theatre Company presents: "An Israeli Love Story
 ”
DESCRIPTION:Jewish Federation of Central Massachusetts\nCalendar\nhttps://j
 ewishcentralmass.org/calendar/central-ma-jewish-theatre-company-presents-a
 n-israeli-love-story\n\nCentral MA Jewish Theatre Company presents: "An Is
 raeli Love Story”\, staring Adi Bielski on Tuesday October 12th at 7:30p
 m
DTSTART;TZID=America/New_York:20211012T193000
DTEND;TZID=America/New_York:20211012T213000
END:VEVENT
END:VCALENDAR
