BEGIN:VCALENDAR
PRODID:-//eluceo/ical//2.0/EN
VERSION:2.0
CALSCALE:GREGORIAN
BEGIN:VEVENT
UID:24f934f5b3292a4838bada9eae9e95aa
DTSTAMP:20260421T221334Z
SUMMARY:Central MA Film - Tuesday
DESCRIPTION:Jewish Federation of Central Massachusetts\nCalendar\nhttps://j
 ewishcentralmass.org/calendar/central-ma-film-tuesday\n\nCentral MA Film -
  Tuesday
DTSTART;TZID=America/New_York:20220125T190000
DTEND;TZID=America/New_York:20220125T210000
END:VEVENT
END:VCALENDAR
