BEGIN:VCALENDAR
PRODID:-//eluceo/ical//2.0/EN
VERSION:2.0
CALSCALE:GREGORIAN
BEGIN:VEVENT
UID:6f004c36ac877e96f9449738ceac27f2
DTSTAMP:20260424T030550Z
SUMMARY:Central MA Film - Sunday 30
DESCRIPTION:Jewish Federation of Central Massachusetts\nCalendar\nhttps://j
 ewishcentralmass.org/calendar/central-ma-film-sunday-30\n\nCentral MA Film
  - Sunday\, January 30
DTSTART;TZID=America/New_York:20220130T140000
DTEND;TZID=America/New_York:20220130T160000
END:VEVENT
END:VCALENDAR
