BEGIN:VCALENDAR
PRODID:-//eluceo/ical//2.0/EN
VERSION:2.0
CALSCALE:GREGORIAN
BEGIN:VEVENT
UID:dac609aacf76025f2399de2798ced91a
DTSTAMP:20260422T081613Z
SUMMARY:Central MA Film - Sunday
DESCRIPTION:Jewish Federation of Central Massachusetts\nCalendar\nhttps://j
 ewishcentralmass.org/calendar/central-ma-film-sunday\n\nCentral MA Film - 
 Sunday
DTSTART;TZID=America/New_York:20220123T140000
DTEND;TZID=America/New_York:20220123T160000
END:VEVENT
END:VCALENDAR
