BEGIN:VCALENDAR
PRODID:-//eluceo/ical//2.0/EN
VERSION:2.0
CALSCALE:GREGORIAN
BEGIN:VEVENT
UID:5e8256efbc820da83b7f1643cb378e01
DTSTAMP:20260424T051959Z
SUMMARY:Central MA Film - Saturday
DESCRIPTION:Jewish Federation of Central Massachusetts\nCalendar\nhttps://j
 ewishcentralmass.org/calendar/central-ma-film-saturday\n\nCentral MA Film 
 Festival
DTSTART;TZID=America/New_York:20220122T193000
DTEND;TZID=America/New_York:20220122T213000
END:VEVENT
END:VCALENDAR
