BEGIN:VCALENDAR
PRODID:-//eluceo/ical//2.0/EN
VERSION:2.0
CALSCALE:GREGORIAN
BEGIN:VEVENT
UID:88076296ae2c2386901f0470eb721676
DTSTAMP:20260424T204723Z
SUMMARY:Community Cemetery Clean-up
DESCRIPTION:Jewish Federation of Central Massachusetts\nCalendar\nhttps://j
 ewishcentralmass.org/calendar/cemetery-clean-up\n\nWe need your help to cl
 ean up Worcester Hebrew Cemetery. Please join us at 9:30 am on Tuesday\, M
 ay 22\; Wednesday\, May 23 and Thursday\, May 24th for a community cemeter
 y cleanup! Call Lisa at 508-756-1543 to let us know you can do it.
DTSTART;TZID=America/New_York:20180522T093000
DTEND;TZID=America/New_York:20180524T113000
END:VEVENT
END:VCALENDAR
