BEGIN:VCALENDAR
PRODID:-//eluceo/ical//2.0/EN
VERSION:2.0
CALSCALE:GREGORIAN
BEGIN:VEVENT
UID:6db7548a2e2d7ef9b60d1bd1220c7c9d
DTSTAMP:20260423T200942Z
SUMMARY:Celebrate Israel JFNA virtual program
DESCRIPTION:Jewish Federation of Central Massachusetts\nCalendar\nhttps://j
 ewishcentralmass.org/calendar/celebrate-israel-jfna-virtual-program\n\nApr
 il 15 Celebrate Israel JFNA virtual program program
DTSTART;TZID=America/New_York:20210415T180000
DTEND;TZID=America/New_York:20210415T210000
END:VEVENT
END:VCALENDAR
