BEGIN:VCALENDAR
PRODID:-//eluceo/ical//2.0/EN
VERSION:2.0
CALSCALE:GREGORIAN
BEGIN:VEVENT
UID:2e43580c1f603e08f9891ad6a1db7fe6
DTSTAMP:20260422T061736Z
SUMMARY:CBS Womens Seder
DESCRIPTION:Jewish Federation of Central Massachusetts\nCalendar\nhttps://j
 ewishcentralmass.org/calendar/cbs-womens-seder\n\nCBS Women's Seder\n\n6:0
 0 pm
DTSTART;TZID=America/New_York:20240404T180000
DTEND;TZID=America/New_York:20240404T200000
END:VEVENT
END:VCALENDAR
