BEGIN:VCALENDAR
PRODID:-//eluceo/ical//2.0/EN
VERSION:2.0
CALSCALE:GREGORIAN
BEGIN:VEVENT
UID:a035dace928e633c0a1bacefb3d61a79
DTSTAMP:20260423T023636Z
SUMMARY:CBS Whiskey Event
DESCRIPTION:Jewish Federation of Central Massachusetts\nCalendar\nhttps://j
 ewishcentralmass.org/calendar/cbs-whiskey-event\n\nCBS Whiskey Event\n\n7:
 00 pm
DTSTART;TZID=America/New_York:20250320T190000
DTEND;TZID=America/New_York:20250320T210000
END:VEVENT
END:VCALENDAR
