BEGIN:VCALENDAR
PRODID:-//eluceo/ical//2.0/EN
VERSION:2.0
CALSCALE:GREGORIAN
BEGIN:VEVENT
UID:3bd9f461f2a5616dc3e57ff9b23677d0
DTSTAMP:20260421T002647Z
SUMMARY:CBS Tu Shevat Seder
DESCRIPTION:Jewish Federation of Central Massachusetts\nCalendar\nhttps://j
 ewishcentralmass.org/calendar/cbs-tu-shevat-seder\n\nCBS Tu Shevat Seder\n
 \n6:30 pm
DTSTART;TZID=America/New_York:20240123T183000
DTEND;TZID=America/New_York:20240123T203000
END:VEVENT
END:VCALENDAR
