BEGIN:VCALENDAR
PRODID:-//eluceo/ical//2.0/EN
VERSION:2.0
CALSCALE:GREGORIAN
BEGIN:VEVENT
UID:f31216650226778315cac99510d4c1d1
DTSTAMP:20260422T193659Z
SUMMARY:CBS Tot Shabbat - November 2024
DESCRIPTION:Jewish Federation of Central Massachusetts\nCalendar\nhttps://j
 ewishcentralmass.org/calendar/cbs-tot-shabbat-november-2024\n\nCBS Tot Sha
 bbat - November 2024
DTSTART;TZID=America/New_York:20241116T160000
DTEND;TZID=America/New_York:20241116T180000
END:VEVENT
END:VCALENDAR
