BEGIN:VCALENDAR
PRODID:-//eluceo/ical//2.0/EN
VERSION:2.0
CALSCALE:GREGORIAN
BEGIN:VEVENT
UID:a1b642b36bb510f0927a771c72f7c99d
DTSTAMP:20260422T063856Z
SUMMARY:PJ and CBS Tot Shabbat and Day of Giving
DESCRIPTION:Jewish Federation of Central Massachusetts\nCalendar\nhttps://j
 ewishcentralmass.org/calendar/cbs-tot-shabbat-and-day-of-giving\n\nPJ and 
 CBS Tot Shabbat and Day of Giving\n\n10:30 am
DTSTART;TZID=America/New_York:20241221T103000
DTEND;TZID=America/New_York:20241221T123000
END:VEVENT
END:VCALENDAR
