BEGIN:VCALENDAR
PRODID:-//eluceo/ical//2.0/EN
VERSION:2.0
CALSCALE:GREGORIAN
BEGIN:VEVENT
UID:dcef8a865b28acec3638ca474a6e454a
DTSTAMP:20260422T040208Z
SUMMARY:CBS Tot Shabbat
DESCRIPTION:Jewish Federation of Central Massachusetts\nCalendar\nhttps://j
 ewishcentralmass.org/calendar/cbs-tot-shabbat\n\nCBS Tot Shabbat\n\n10:00 
 am
DTSTART;TZID=America/New_York:20231104T100000
DTEND;TZID=America/New_York:20231104T110000
END:VEVENT
END:VCALENDAR
