BEGIN:VCALENDAR
PRODID:-//eluceo/ical//2.0/EN
VERSION:2.0
CALSCALE:GREGORIAN
BEGIN:VEVENT
UID:edf386aac47d25bf5b49da54fa9be3f3
DTSTAMP:20260420T114820Z
SUMMARY:CBS Tot Havdalah
DESCRIPTION:Jewish Federation of Central Massachusetts\nCalendar\nhttps://j
 ewishcentralmass.org/calendar/cbs-tot-havdalah\n\nCBS Tot Havdalah\n\n4:30
  pm
DTSTART;TZID=America/New_York:20231021T163000
DTEND;TZID=America/New_York:20231021T183000
END:VEVENT
END:VCALENDAR
