BEGIN:VCALENDAR
PRODID:-//eluceo/ical//2.0/EN
VERSION:2.0
CALSCALE:GREGORIAN
BEGIN:VEVENT
UID:4ce3c6c75efe4275f3b16dc63d6a80db
DTSTAMP:20260424T044258Z
SUMMARY:CBS Sukkot Program
DESCRIPTION:Jewish Federation of Central Massachusetts\nCalendar\nhttps://j
 ewishcentralmass.org/calendar/cbs-sukkot-program\n\nCBS Sukkot Program\n\n
 5:15 pm
DTSTART;TZID=America/New_York:20221009T171500
DTEND;TZID=America/New_York:20221009T191500
END:VEVENT
END:VCALENDAR
