BEGIN:VCALENDAR
PRODID:-//eluceo/ical//2.0/EN
VERSION:2.0
CALSCALE:GREGORIAN
BEGIN:VEVENT
UID:80bb4efe2017bd65b4211393b0294325
DTSTAMP:20260422T142603Z
SUMMARY:CBS Sukkot Crawl
DESCRIPTION:Jewish Federation of Central Massachusetts\nCalendar\nhttps://j
 ewishcentralmass.org/calendar/cbs-sukkot-crawl\n\nCBS Sukkot Crawl\n\n12:0
 0 pm
DTSTART;TZID=America/New_York:20221010T120000
DTEND;TZID=America/New_York:20221010T140000
END:VEVENT
END:VCALENDAR
