BEGIN:VCALENDAR
PRODID:-//eluceo/ical//2.0/EN
VERSION:2.0
CALSCALE:GREGORIAN
BEGIN:VEVENT
UID:4f46fa2bb81f04aa7a0898a1c5228ebc
DTSTAMP:20260423T003948Z
SUMMARY:CBS Start of Hebrew School 2022
DESCRIPTION:Jewish Federation of Central Massachusetts\nCalendar\nhttps://j
 ewishcentralmass.org/calendar/cbs-start-of-hebrew-school-2022\n\nCBS Start
  of Hebrew School
DTSTART;TZID=America/New_York:20220918T090000
DTEND;TZID=America/New_York:20220918T110000
END:VEVENT
END:VCALENDAR
