BEGIN:VCALENDAR
PRODID:-//eluceo/ical//2.0/EN
VERSION:2.0
CALSCALE:GREGORIAN
BEGIN:VEVENT
UID:c43d1a5bbc0fd06f228bfd37f2534a76
DTSTAMP:20260422T025410Z
SUMMARY:CBS Shabbat Picnic
DESCRIPTION:Jewish Federation of Central Massachusetts\nCalendar\nhttps://j
 ewishcentralmass.org/calendar/cbs-shabbat-picnic\n\nCBS Shabbat Picnic\n\n
 5:30 pm
DTSTART;TZID=America/New_York:20220812T173000
DTEND;TZID=America/New_York:20220812T193000
END:VEVENT
END:VCALENDAR
