BEGIN:VCALENDAR
PRODID:-//eluceo/ical//2.0/EN
VERSION:2.0
CALSCALE:GREGORIAN
BEGIN:VEVENT
UID:244fc21c27ce3f5c76f32ddb65694c05
DTSTAMP:20260420T090109Z
SUMMARY:CBS Shabbat in the Park
DESCRIPTION:Jewish Federation of Central Massachusetts\nCalendar\nhttps://j
 ewishcentralmass.org/calendar/cbs-shabbat-in-the-park1\n\nCBS Shabbat in t
 he Park
DTSTART;TZID=America/New_York:20210827T173000
DTEND;TZID=America/New_York:20210827T200000
END:VEVENT
END:VCALENDAR
