BEGIN:VCALENDAR
PRODID:-//eluceo/ical//2.0/EN
VERSION:2.0
CALSCALE:GREGORIAN
BEGIN:VEVENT
UID:75a3f650dff57ad3b0f2444736a373d8
DTSTAMP:20260420T165937Z
SUMMARY:CBS Selichot Sen and Prog
DESCRIPTION:Jewish Federation of Central Massachusetts\nCalendar\nhttps://j
 ewishcentralmass.org/calendar/cbs-selichot-sen-and-prog\n\nCBS Selichot Se
 n & Prog\n\n7:00 pm
DTSTART;TZID=America/New_York:20230909T190000
DTEND;TZID=America/New_York:20230909T210000
END:VEVENT
END:VCALENDAR
