BEGIN:VCALENDAR
PRODID:-//eluceo/ical//2.0/EN
VERSION:2.0
CALSCALE:GREGORIAN
BEGIN:VEVENT
UID:2798d34352c3c8a523b15db0379eda04
DTSTAMP:20260423T172447Z
SUMMARY:CBS Selichot
DESCRIPTION:Jewish Federation of Central Massachusetts\nCalendar\nhttps://j
 ewishcentralmass.org/calendar/cbs-selichot\n\nCBS Selichot\n\n7:00 pm
DTSTART;TZID=America/New_York:20240928T190000
DTEND;TZID=America/New_York:20240928T210000
END:VEVENT
END:VCALENDAR
