BEGIN:VCALENDAR
PRODID:-//eluceo/ical//2.0/EN
VERSION:2.0
CALSCALE:GREGORIAN
BEGIN:VEVENT
UID:c69325c737c795a48e918317ca172592
DTSTAMP:20260423T103505Z
SUMMARY:CBS RH Comm Lunch
DESCRIPTION:Jewish Federation of Central Massachusetts\nCalendar\nhttps://j
 ewishcentralmass.org/calendar/cbs-rh-comm-lunch\n\nCBS RH Comm Lunch\n\n12
 :00 pm
DTSTART;TZID=America/New_York:20220927T120000
DTEND;TZID=America/New_York:20220927T140000
END:VEVENT
END:VCALENDAR
